BEGIN:VCALENDAR
VERSION:2.0
PRODID:-//time.now/holidays//NONSGML v1.0//EN
BEGIN:VEVENT
UID:547572ee-9097-47ac-bd8c-d129755806ed
DTSTAMP:20260420T193818Z
DTSTART;VALUE=DATE:20261225
SUMMARY:Christmas Day (Albanie)
END:VEVENT
END:VCALENDAR