BEGIN:VCALENDAR
VERSION:2.0
PRODID:-//time.now/holidays//NONSGML v1.0//EN
BEGIN:VEVENT
UID:829db5cc-d42f-4407-93b0-979e505ecc04
DTSTAMP:20260420T213057Z
DTSTART;VALUE=DATE:20271227
SUMMARY:Christmas Day (observed) (Albanie)
END:VEVENT
END:VCALENDAR