BEGIN:VCALENDAR
VERSION:2.0
PRODID:-//time.now/holidays//NONSGML v1.0//EN
BEGIN:VEVENT
UID:993a3469-d7b1-4e2f-bc9d-6b62ee2b4b34
DTSTAMP:20260420T164134Z
DTSTART;VALUE=DATE:20280416
SUMMARY:Catholic Easter Sunday; Orthodox Easter Sunday (Albanie)
END:VEVENT
END:VCALENDAR