BEGIN:VCALENDAR
VERSION:2.0
PRODID:-//time.now/holidays//NONSGML v1.0//EN
BEGIN:VEVENT
UID:4f6e3ebc-008e-49ae-a7dc-5089b7a17c4b
DTSTAMP:20260420T214511Z
DTSTART;VALUE=DATE:20280417
SUMMARY:Catholic Easter Sunday (observed); Orthodox Easter Sunday (observed) (Albanie)
END:VEVENT
END:VCALENDAR