BEGIN:VCALENDAR
VERSION:2.0
PRODID:-//time.now/holidays//NONSGML v1.0//EN
BEGIN:VEVENT
UID:e24e4743-946d-4315-9ae5-516343d190f2
DTSTAMP:20260420T153929Z
DTSTART;VALUE=DATE:20260403
SUMMARY:Good Friday (Îles Åland)
END:VEVENT
END:VCALENDAR