BEGIN:VCALENDAR
VERSION:2.0
PRODID:-//time.now/holidays//NONSGML v1.0//EN
BEGIN:VEVENT
UID:33e2506a-08f9-45fc-84f5-0869b01a4ab4
DTSTAMP:20260422T193230Z
DTSTART;VALUE=DATE:20261031
SUMMARY:All Saints' Day (Îles Åland)
END:VEVENT
END:VCALENDAR