BEGIN:VCALENDAR
VERSION:2.0
PRODID:-//time.now/holidays//NONSGML v1.0//EN
BEGIN:VEVENT
UID:84cd5988-f486-44cf-bc7a-6cb9092a5d75
DTSTAMP:20260420T213811Z
DTSTART;VALUE=DATE:20260609
SUMMARY:Åland's Autonomy Day (Îles Åland)
END:VEVENT
END:VCALENDAR