BEGIN:VCALENDAR
VERSION:2.0
PRODID:-//time.now/holidays//NONSGML v1.0//EN
BEGIN:VEVENT
UID:437a837c-e094-4ba2-ab95-4a526b1ad615
DTSTAMP:20260420T203440Z
DTSTART;VALUE=DATE:20240916
SUMMARY:Prophet's Birthday (Afghanistan)
END:VEVENT
END:VCALENDAR