BEGIN:VCALENDAR
VERSION:2.0
PRODID:-//time.now/holidays//NONSGML v1.0//EN
BEGIN:VEVENT
UID:ce579741-b8fc-45c4-8b4b-2c48f83e80e1
DTSTAMP:20260422T122915Z
DTSTART;VALUE=DATE:20260815
SUMMARY:Islamic Emirate Victory Day (Afghanistan)
END:VEVENT
END:VCALENDAR