BEGIN:VCALENDAR
VERSION:2.0
PRODID:-//time.now/holidays//NONSGML v1.0//EN
BEGIN:VEVENT
UID:24cfb200-6542-4319-bd9d-ebf47aaf1714
DTSTAMP:20260420T215306Z
DTSTART;VALUE=DATE:20260320
SUMMARY:Eid al-Fitr (estimated) (Afghanistan)
END:VEVENT
END:VCALENDAR