BEGIN:VCALENDAR
VERSION:2.0
PRODID:-//time.now/holidays//NONSGML v1.0//EN
BEGIN:VEVENT
UID:bd9c7c04-f773-43e4-885a-cdbc9d265afb
DTSTAMP:20260422T133323Z
DTSTART;VALUE=DATE:20260819
SUMMARY:Afghanistan Independence Day (Afghanistan)
END:VEVENT
END:VCALENDAR