BEGIN:VCALENDAR
VERSION:2.0
PRODID:-//time.now/holidays//NONSGML v1.0//EN
BEGIN:VEVENT
UID:70a715fb-0fd9-461b-8501-1b556c058189
DTSTAMP:20260420T012333Z
DTSTART;VALUE=DATE:20330502
SUMMARY:Workers' Day (observed) (Zimbabue)
END:VEVENT
END:VCALENDAR