BEGIN:VCALENDAR
VERSION:2.0
PRODID:-//time.now/holidays//NONSGML v1.0//EN
BEGIN:VEVENT
UID:3d366ed1-26c5-43da-8b17-3f2c7bfb3966
DTSTAMP:20260420T155720Z
DTSTART;VALUE=DATE:20250418
SUMMARY:Good Friday; Independence Day (Zimbabue)
END:VEVENT
END:VCALENDAR