BEGIN:VCALENDAR
VERSION:2.0
PRODID:-//time.now/holidays//NONSGML v1.0//EN
BEGIN:VEVENT
UID:a3553f7e-9215-41d7-9a41-0d8ddea116e3
DTSTAMP:20260420T142812Z
DTSTART;VALUE=DATE:20331227
SUMMARY:Christmas Day (observed) (Zimbabue)
END:VEVENT
END:VCALENDAR