BEGIN:VCALENDAR
VERSION:2.0
PRODID:-//time.now/holidays//NONSGML v1.0//EN
BEGIN:VEVENT
UID:e9936207-0862-4f3a-8a35-c41717921381
DTSTAMP:20260420T110201Z
DTSTART;VALUE=DATE:20271227
SUMMARY:Boxing Day (observed) (Zimbabue)
END:VEVENT
END:VCALENDAR