BEGIN:VCALENDAR
VERSION:2.0
PRODID:-//time.now/holidays//NONSGML v1.0//EN
BEGIN:VEVENT
UID:41c8e836-2838-4896-9fb7-404fae45f58f
DTSTAMP:20260420T205948Z
DTSTART;VALUE=DATE:20310526
SUMMARY:Africa Day (observed) (Zimbabue)
END:VEVENT
END:VCALENDAR