BEGIN:VCALENDAR
VERSION:2.0
PRODID:-//time.now/holidays//NONSGML v1.0//EN
BEGIN:VEVENT
UID:deaa159c-de3d-4e0f-b596-9e1910437e85
DTSTAMP:20260420T200725Z
DTSTART;VALUE=DATE:20260312
SUMMARY:Youth Day (Zambia)
END:VEVENT
END:VCALENDAR