BEGIN:VCALENDAR
VERSION:2.0
PRODID:-//time.now/holidays//NONSGML v1.0//EN
BEGIN:VEVENT
UID:df0575c6-4757-4d4b-a849-a55b5b7b9804
DTSTAMP:20260420T213938Z
DTSTART;VALUE=DATE:20280313
SUMMARY:Youth Day (observed) (Zambia)
END:VEVENT
END:VCALENDAR