BEGIN:VCALENDAR
VERSION:2.0
PRODID:-//time.now/holidays//NONSGML v1.0//EN
BEGIN:VEVENT
UID:50d6eb58-4f03-487d-808f-99da0df98e7e
DTSTAMP:20260419T215736Z
DTSTART;VALUE=DATE:20260707
SUMMARY:Unity Day (Zambia)
END:VEVENT
END:VCALENDAR