BEGIN:VCALENDAR
VERSION:2.0
PRODID:-//time.now/holidays//NONSGML v1.0//EN
BEGIN:VEVENT
UID:e693511d-eac2-458b-81f5-e4f0fe7e9301
DTSTAMP:20260422T134407Z
DTSTART;VALUE=DATE:20261019
SUMMARY:National Prayer Day (observed) (Zambia)
END:VEVENT
END:VCALENDAR