BEGIN:VCALENDAR
VERSION:2.0
PRODID:-//time.now/holidays//NONSGML v1.0//EN
BEGIN:VEVENT
UID:cf19bc7b-69de-4824-b130-1fdd4c686de5
DTSTAMP:20260420T201930Z
DTSTART;VALUE=DATE:20210702
SUMMARY:Memorial service for Kenneth Kaunda (Zambia)
END:VEVENT
END:VCALENDAR