BEGIN:VCALENDAR
VERSION:2.0
PRODID:-//time.now/holidays//NONSGML v1.0//EN
BEGIN:VEVENT
UID:b368330d-c916-41de-8a02-0afbc1c1ba57
DTSTAMP:20260420T080001Z
DTSTART;VALUE=DATE:20260403
SUMMARY:Good Friday (Zambia)
END:VEVENT
END:VCALENDAR