BEGIN:VCALENDAR
VERSION:2.0
PRODID:-//time.now/holidays//NONSGML v1.0//EN
BEGIN:VEVENT
UID:6be22153-6d38-440c-8c41-3d0c55712ab0
DTSTAMP:20260420T082309Z
DTSTART;VALUE=DATE:20210813
SUMMARY:Counting in general elections (Zambia)
END:VEVENT
END:VCALENDAR