BEGIN:VCALENDAR
VERSION:2.0
PRODID:-//time.now/holidays//NONSGML v1.0//EN
BEGIN:VEVENT
UID:3a8e5ddc-72a0-4c74-90c7-dce21c53132c
DTSTAMP:20260422T091119Z
DTSTART;VALUE=DATE:20260525
SUMMARY:Africa Freedom Day (Zambia)
END:VEVENT
END:VCALENDAR