BEGIN:VCALENDAR
VERSION:2.0
PRODID:-//time.now/holidays//NONSGML v1.0//EN
BEGIN:VEVENT
UID:d25ab643-e63e-4a94-ab7b-1a956da6fff8
DTSTAMP:20260419T232705Z
DTSTART;VALUE=DATE:20260522
SUMMARY:Unity Day (Yemen)
END:VEVENT
END:VCALENDAR