BEGIN:VCALENDAR
VERSION:2.0
PRODID:-//time.now/holidays//NONSGML v1.0//EN
BEGIN:VEVENT
UID:ae7ea472-eadf-4273-a40b-d994bfc332a4
DTSTAMP:20260420T194529Z
DTSTART;VALUE=DATE:20261014
SUMMARY:Liberation Day (Yemen)
END:VEVENT
END:VCALENDAR