BEGIN:VCALENDAR
VERSION:2.0
PRODID:-//time.now/holidays//NONSGML v1.0//EN
BEGIN:VEVENT
UID:21d92091-b5cb-4fe5-9e54-a6709701b3fd
DTSTAMP:20260420T173904Z
DTSTART;VALUE=DATE:20260503
SUMMARY:Labor Day (observed) (Yemen)
END:VEVENT
END:VCALENDAR