BEGIN:VCALENDAR
VERSION:2.0
PRODID:-//time.now/holidays//NONSGML v1.0//EN
BEGIN:VEVENT
UID:63fc031c-7133-4a31-868f-571425fdadca
DTSTAMP:20260422T133514Z
DTSTART;VALUE=DATE:20240707
SUMMARY:Hijri New Year (Yemen)
END:VEVENT
END:VCALENDAR