BEGIN:VCALENDAR
VERSION:2.0
PRODID:-//time.now/holidays//NONSGML v1.0//EN
BEGIN:VEVENT
UID:8ba0039c-ac3e-4cd9-ba6d-bf295321290d
DTSTAMP:20260422T134217Z
DTSTART;VALUE=DATE:20230702
SUMMARY:Eid al-Adha (observed) (Yemen)
END:VEVENT
END:VCALENDAR