BEGIN:VCALENDAR
VERSION:2.0
PRODID:-//time.now/holidays//NONSGML v1.0//EN
BEGIN:VEVENT
UID:2a3c4f31-1a84-40cd-9e55-88d57a8c3a33
DTSTAMP:20260420T213538Z
DTSTART;VALUE=DATE:20280103
SUMMARY:New Year's Day (observed) (Vietnam)
END:VEVENT
END:VCALENDAR