BEGIN:VCALENDAR
VERSION:2.0
PRODID:-//time.now/holidays//NONSGML v1.0//EN
BEGIN:VEVENT
UID:0fe65889-c013-4824-a92f-f8e170171cca
DTSTAMP:20260420T192833Z
DTSTART;VALUE=DATE:20260217
SUMMARY:Lunar New Year (Vietnam)
END:VEVENT
END:VCALENDAR