BEGIN:VCALENDAR
VERSION:2.0
PRODID:-//time.now/holidays//NONSGML v1.0//EN
BEGIN:VEVENT
UID:6caec9a3-c0d0-416d-bc0f-15ba1c0b334c
DTSTAMP:20260421T005744Z
DTSTART;VALUE=DATE:20270204
SUMMARY:29 of Lunar New Year (Vietnam)
END:VEVENT
END:VCALENDAR