BEGIN:VCALENDAR
VERSION:2.0
PRODID:-//time.now/holidays//NONSGML v1.0//EN
BEGIN:VEVENT
UID:b7961743-2243-405c-a3c0-1ae75a472a0f
DTSTAMP:20260420T185819Z
DTSTART;VALUE=DATE:20260501
SUMMARY:International Worker's Day (Venezuela)
END:VEVENT
END:VCALENDAR