BEGIN:VCALENDAR
VERSION:2.0
PRODID:-//time.now/holidays//NONSGML v1.0//EN
BEGIN:VEVENT
UID:6e48f1bd-0647-4ac3-bc9a-aab8ebf77561
DTSTAMP:20260420T030926Z
DTSTART;VALUE=DATE:20260705
SUMMARY:Independence Day (Venezuela)
END:VEVENT
END:VCALENDAR