BEGIN:VCALENDAR
VERSION:2.0
PRODID:-//time.now/holidays//NONSGML v1.0//EN
BEGIN:VEVENT
UID:0f14b6be-6f44-4776-b60b-5513b6ab0160
DTSTAMP:20260420T195237Z
DTSTART;VALUE=DATE:20261224
SUMMARY:Christmas Eve (Venezuela)
END:VEVENT
END:VCALENDAR