BEGIN:VCALENDAR
VERSION:2.0
PRODID:-//time.now/holidays//NONSGML v1.0//EN
BEGIN:VEVENT
UID:697f4178-4b80-42b1-a953-6e46111d0555
DTSTAMP:20260422T091420Z
DTSTART;VALUE=DATE:20260629
SUMMARY:Saints Peter and Paul's Day (Ciudad del Vaticano)
END:VEVENT
END:VCALENDAR