BEGIN:VCALENDAR
VERSION:2.0
PRODID:-//time.now/holidays//NONSGML v1.0//EN
BEGIN:VEVENT
UID:05861be6-4388-4d4c-8181-402e67b202d3
DTSTAMP:20260420T213248Z
DTSTART;VALUE=DATE:20260319
SUMMARY:Saint Joseph's Day (Ciudad del Vaticano)
END:VEVENT
END:VCALENDAR