BEGIN:VCALENDAR
VERSION:2.0
PRODID:-//time.now/holidays//NONSGML v1.0//EN
BEGIN:VEVENT
UID:a8e47536-7351-4ad4-9476-7f8f7f13fd32
DTSTAMP:20260422T104813Z
DTSTART;VALUE=DATE:20260917
SUMMARY:Name Day of the Holy Father (Ciudad del Vaticano)
END:VEVENT
END:VCALENDAR