BEGIN:VCALENDAR
VERSION:2.0
PRODID:-//time.now/holidays//NONSGML v1.0//EN
BEGIN:VEVENT
UID:a7cac8d4-98aa-4452-bc6a-4bb610db12e4
DTSTAMP:20260420T200054Z
DTSTART;VALUE=DATE:20260402
SUMMARY:Maundy Thursday (Ciudad del Vaticano)
END:VEVENT
END:VCALENDAR