BEGIN:VCALENDAR
VERSION:2.0
PRODID:-//time.now/holidays//NONSGML v1.0//EN
BEGIN:VEVENT
UID:b4f52fe9-b7b3-4f19-aa40-678397a48e84
DTSTAMP:20260420T230903Z
DTSTART;VALUE=DATE:20260814
SUMMARY:Day Before Assumption of Mary (Ciudad del Vaticano)
END:VEVENT
END:VCALENDAR