BEGIN:VCALENDAR
VERSION:2.0
PRODID:-//time.now/holidays//NONSGML v1.0//EN
BEGIN:VEVENT
UID:43eb342d-971b-41bc-85cb-7e28a5f016c2
DTSTAMP:20260422T193208Z
DTSTART;VALUE=DATE:20261225
SUMMARY:Christmas Day (Ciudad del Vaticano)
END:VEVENT
END:VCALENDAR