BEGIN:VCALENDAR
VERSION:2.0
PRODID:-//time.now/holidays//NONSGML v1.0//EN
BEGIN:VEVENT
UID:c337c450-6f0f-4f85-a742-81e6d7febcd9
DTSTAMP:20260420T213043Z
DTSTART;VALUE=DATE:20261101
SUMMARY:All Saints' Day (Ciudad del Vaticano)
END:VEVENT
END:VCALENDAR