BEGIN:VCALENDAR
VERSION:2.0
PRODID:-//time.now/holidays//NONSGML v1.0//EN
BEGIN:VEVENT
UID:4206edc2-a230-4006-b609-2b222e2c9e48
DTSTAMP:20260420T101706Z
DTSTART;VALUE=DATE:20260101
SUMMARY:New Year's Day (Vanuatu)
END:VEVENT
END:VCALENDAR