BEGIN:VCALENDAR
VERSION:2.0
PRODID:-//time.now/holidays//NONSGML v1.0//EN
BEGIN:VEVENT
UID:ea7e078b-c254-49c8-b8c4-d0e6b099d9b1
DTSTAMP:20260420T153719Z
DTSTART;VALUE=DATE:20340102
SUMMARY:New Year's Day (observed) (Vanuatu)
END:VEVENT
END:VCALENDAR