BEGIN:VCALENDAR
VERSION:2.0
PRODID:-//time.now/holidays//NONSGML v1.0//EN
BEGIN:VEVENT
UID:9a8b9d16-c5f5-45b3-b78a-a5542e93b81d
DTSTAMP:20260420T042924Z
DTSTART;VALUE=DATE:20330502
SUMMARY:Labour Day (observed) (Vanuatu)
END:VEVENT
END:VCALENDAR