BEGIN:VCALENDAR
VERSION:2.0
PRODID:-//time.now/holidays//NONSGML v1.0//EN
BEGIN:VEVENT
UID:efaf9cd2-e1bd-49fd-9102-4d3be5198e5f
DTSTAMP:20260420T053617Z
DTSTART;VALUE=DATE:20270816
SUMMARY:Assumption Day (observed) (Vanuatu)
END:VEVENT
END:VCALENDAR