BEGIN:VCALENDAR
VERSION:2.0
PRODID:-//time.now/holidays//NONSGML v1.0//EN
BEGIN:VEVENT
UID:c5aa0629-6697-4b92-8465-b78453995423
DTSTAMP:20260420T212506Z
DTSTART;VALUE=DATE:20260308
SUMMARY:Women's Day (Uzbekistán)
END:VEVENT
END:VCALENDAR