BEGIN:VCALENDAR
VERSION:2.0
PRODID:-//time.now/holidays//NONSGML v1.0//EN
BEGIN:VEVENT
UID:7e8c0565-6266-4e8b-bbe0-3fadd49cd94b
DTSTAMP:20260422T085548Z
DTSTART;VALUE=DATE:20261001
SUMMARY:Teachers and Instructors Day (Uzbekistán)
END:VEVENT
END:VCALENDAR