BEGIN:VCALENDAR
VERSION:2.0
PRODID:-//time.now/holidays//NONSGML v1.0//EN
BEGIN:VEVENT
UID:a330873c-ca0e-474e-a60f-bb49565069c7
DTSTAMP:20260422T091125Z
DTSTART;VALUE=DATE:20281002
SUMMARY:Teachers and Instructors Day (observed) (Uzbekistán)
END:VEVENT
END:VCALENDAR