BEGIN:VCALENDAR
VERSION:2.0
PRODID:-//time.now/holidays//NONSGML v1.0//EN
BEGIN:VEVENT
UID:c69e77d8-c504-4500-8eb7-02b876afb4cd
DTSTAMP:20260420T210223Z
DTSTART;VALUE=DATE:20260323
SUMMARY:Nowruz (observed) (Uzbekistán)
END:VEVENT
END:VCALENDAR